BEGIN:VCALENDAR
VERSION:2.0
PRODID:-//hacksw/handcal//NONSGML v1.0//EN
BEGIN:VEVENT
SUMMARY:CDC VETERAN A 2026
UID:3db2d5d4-9758-4414-aed9-2cf0dcfa0337
DTSTART:20260401T123000Z
DTEND:20260401T170000Z
LOCATION:Localisation   
CATEGORIES:Sportif
STATUS:
URL;VALUE=URI:https://cfpmoutiers.sportsregions.fr/evenements/2026/04/01/cdc-veteran-a-2026-2437142
END:VEVENT
END:VCALENDAR
