BEGIN:VCALENDAR
VERSION:2.0
PRODID:-//hacksw/handcal//NONSGML v1.0//EN
BEGIN:VEVENT
SUMMARY:CDC VETERAN B 2026
UID:94114485-7075-4485-a869-741c03bf53d4
DTSTART:20260401T123000Z
DTEND:20260401T170000Z
LOCATION:Localisation Place de la Resistance 85 AIZENAY
CATEGORIES:Sportif
STATUS:
URL;VALUE=URI:https://cfpmoutiers.sportsregions.fr/evenements/2026/04/01/cdc-veteran-b-2026-2437136
END:VEVENT
END:VCALENDAR
