BEGIN:VCALENDAR
VERSION:2.0
PRODID:-//hacksw/handcal//NONSGML v1.0//EN
BEGIN:VEVENT
SUMMARY:CDC VETERAN A 2026
UID:01e87b7c-7b03-4333-8f90-1ae8fc87a27c
DTSTART:20260407T220000Z
DTEND:20260408T220000Z
LOCATION:Localisation  85 BOURG SOUS LA ROCHE
CATEGORIES:Sportif
STATUS:
URL;VALUE=URI:https://cfpmoutiers.sportsregions.fr/evenements/2026/04/08/cdc-veteran-a-2026-2442581
END:VEVENT
END:VCALENDAR
