BEGIN:VCALENDAR
VERSION:2.0
PRODID:-//hacksw/handcal//NONSGML v1.0//EN
BEGIN:VEVENT
SUMMARY:CDC VETERAN B 2026
UID:4f4683fc-1bdb-4ce4-b4ec-44c72c66f3d3
DTSTART:20260407T220000Z
DTEND:20260408T220000Z
LOCATION:Localisation  85 Olonne sur Mer
CATEGORIES:Sportif
STATUS:
URL;VALUE=URI:https://cfpmoutiers.sportsregions.fr/evenements/2026/04/08/cdc-veteran-b-2026-2442587
END:VEVENT
END:VCALENDAR
