BEGIN:VCALENDAR
VERSION:2.0
PRODID:-//hacksw/handcal//NONSGML v1.0//EN
BEGIN:VEVENT
SUMMARY:CDC VETERAN A 2026
UID:b6762475-afa2-4408-a03d-7cec18461e89
DTSTART:20260414T220000Z
DTEND:20260415T220000Z
LOCATION:Localisation  85 ANGLES
CATEGORIES:Sportif
STATUS:
URL;VALUE=URI:https://cfpmoutiers.sportsregions.fr/evenements/2026/04/15/cdc-veteran-a-2026-2442584
END:VEVENT
END:VCALENDAR
