BEGIN:VCALENDAR
VERSION:2.0
PRODID:-//hacksw/handcal//NONSGML v1.0//EN
BEGIN:VEVENT
SUMMARY:CDC VETERAN B 2026
UID:9a3a18d7-498e-44f2-8d3b-ac3cf87559c9
DTSTART:20260414T220000Z
DTEND:20260415T220000Z
LOCATION:Localisation  85 Soullans
CATEGORIES:Sportif
STATUS:
URL;VALUE=URI:https://cfpmoutiers.sportsregions.fr/evenements/2026/04/15/cdc-veteran-b-2026-2442598
END:VEVENT
END:VCALENDAR
